Package: traviz Version: 1.15.0 Command: /home/biocbuild/R/R/bin/R CMD build --keep-empty-dirs --no-resave-data traviz StartedAt: 2025-07-15 03:37:08 -0000 (Tue, 15 Jul 2025) EndedAt: 2025-07-15 03:38:17 -0000 (Tue, 15 Jul 2025) EllapsedTime: 69.0 seconds RetCode: 0 Status: OK PackageFile: traviz_1.15.0.tar.gz PackageFileSize: 2.262 MiB