Package: traviz Version: 1.15.0 Command: /Library/Frameworks/R.framework/Resources/bin/R CMD build --keep-empty-dirs --no-resave-data traviz StartedAt: 2025-07-11 18:48:44 -0400 (Fri, 11 Jul 2025) EndedAt: 2025-07-11 18:49:38 -0400 (Fri, 11 Jul 2025) EllapsedTime: 53.7 seconds RetCode: 0 Status: OK PackageFile: traviz_1.15.0.tar.gz PackageFileSize: 3.634 MiB