Package: traviz Version: 1.15.0 Maintainer: Koen Van den Berge MaintainerEmail: koen.vdberge at gmail.com git_url: https://git.bioconductor.org/packages/traviz git_branch: devel git_last_commit: 7c9f77b git_last_commit_date: 2025-04-15 12:36:47 -0400 (Tue, 15 Apr 2025)