Package: traseR Version: 1.39.0 Command: F:\biocbuild\bbs-3.22-bioc\R\bin\R.exe CMD INSTALL traseR StartedAt: 2025-07-21 16:44:28 -0400 (Mon, 21 Jul 2025) EndedAt: 2025-07-21 16:45:11 -0400 (Mon, 21 Jul 2025) EllapsedTime: 42.6 seconds RetCode: 0 Status: OK