Package: traseR Version: 1.39.0 Command: chmod a+r traseR -R && F:\biocbuild\bbs-3.22-bioc\R\bin\R.exe CMD build --keep-empty-dirs --no-resave-data traseR StartedAt: 2025-07-21 22:43:57 -0400 (Mon, 21 Jul 2025) EndedAt: 2025-07-21 22:45:08 -0400 (Mon, 21 Jul 2025) EllapsedTime: 71.3 seconds RetCode: 0 Status: OK PackageFile: traseR_1.39.0.tar.gz PackageFileSize: 6.222 MiB