Package: traseR Version: 1.39.0 Command: rm -rf traseR.buildbin-libdir && mkdir traseR.buildbin-libdir && F:\biocbuild\bbs-3.22-bioc\R\bin\R.exe CMD INSTALL --build --library=traseR.buildbin-libdir traseR_1.39.0.tar.gz StartedAt: 2025-07-22 10:20:41 -0400 (Tue, 22 Jul 2025) EndedAt: 2025-07-22 10:21:15 -0400 (Tue, 22 Jul 2025) EllapsedTime: 34.5 seconds RetCode: 0 Status: OK PackageFile: traseR_1.39.0.zip PackageFileSize: 6.294 MiB