Package: transomics2cytoscape Version: 1.19.0 Command: /home/biocbuild/R/R/bin/R CMD INSTALL transomics2cytoscape StartedAt: 2025-07-10 21:31:41 -0000 (Thu, 10 Jul 2025) EndedAt: 2025-07-10 21:31:46 -0000 (Thu, 10 Jul 2025) EllapsedTime: 4.2 seconds RetCode: 0 Status: OK