Package: transomics2cytoscape Version: 1.19.0 Command: /home/biocbuild/R/R/bin/R CMD check --install=check:transomics2cytoscape.install-out.txt --library=/home/biocbuild/R/R/site-library --no-vignettes --timings transomics2cytoscape_1.19.0.tar.gz StartedAt: 2025-07-11 13:13:15 -0000 (Fri, 11 Jul 2025) EndedAt: 2025-07-11 13:13:50 -0000 (Fri, 11 Jul 2025) EllapsedTime: 35.0 seconds RetCode: 0 Status: OK CheckDir: transomics2cytoscape.Rcheck Warnings: 0