Package: transomics2cytoscape Version: 1.19.0 Command: /home/biocbuild/R/R/bin/R CMD build --keep-empty-dirs --no-resave-data transomics2cytoscape StartedAt: 2025-07-11 04:39:34 -0000 (Fri, 11 Jul 2025) EndedAt: 2025-07-11 04:39:45 -0000 (Fri, 11 Jul 2025) EllapsedTime: 11.0 seconds RetCode: 0 Status: OK PackageFile: transomics2cytoscape_1.19.0.tar.gz PackageFileSize: 11.84 MiB