Package: transomics2cytoscape Version: 1.19.0 Command: F:\biocbuild\bbs-3.22-bioc\R\bin\R.exe CMD INSTALL transomics2cytoscape StartedAt: 2025-07-16 16:42:13 -0400 (Wed, 16 Jul 2025) EndedAt: 2025-07-16 16:42:49 -0400 (Wed, 16 Jul 2025) EllapsedTime: 35.9 seconds RetCode: 0 Status: OK