Package: transomics2cytoscape Version: 1.19.0 Command: F:\biocbuild\bbs-3.22-bioc\R\bin\R.exe CMD check --no-multiarch --install=check:transomics2cytoscape.install-out.txt --library=F:\biocbuild\bbs-3.22-bioc\R\library --no-vignettes --timings transomics2cytoscape_1.19.0.tar.gz StartedAt: 2025-07-18 07:35:07 -0400 (Fri, 18 Jul 2025) EndedAt: 2025-07-18 07:35:48 -0400 (Fri, 18 Jul 2025) EllapsedTime: 40.8 seconds RetCode: 0 Status: OK CheckDir: transomics2cytoscape.Rcheck Warnings: 0