Package: transomics2cytoscape Version: 1.19.0 Command: rm -rf transomics2cytoscape.buildbin-libdir && mkdir transomics2cytoscape.buildbin-libdir && F:\biocbuild\bbs-3.22-bioc\R\bin\R.exe CMD INSTALL --build --library=transomics2cytoscape.buildbin-libdir transomics2cytoscape_1.19.0.tar.gz StartedAt: 2025-07-17 10:13:23 -0400 (Thu, 17 Jul 2025) EndedAt: 2025-07-17 10:14:00 -0400 (Thu, 17 Jul 2025) EllapsedTime: 37.4 seconds RetCode: 0 Status: OK PackageFile: transomics2cytoscape_1.19.0.zip PackageFileSize: 11.84 MiB