Package: transomics2cytoscape Version: 1.19.0 Command: /Library/Frameworks/R.framework/Resources/bin/R CMD INSTALL transomics2cytoscape StartedAt: 2025-06-29 15:17:38 -0400 (Sun, 29 Jun 2025) EndedAt: 2025-06-29 15:17:44 -0400 (Sun, 29 Jun 2025) EllapsedTime: 5.5 seconds RetCode: 0 Status: OK