Package: transomics2cytoscape Version: 1.19.0 Command: /Library/Frameworks/R.framework/Resources/bin/R CMD check --install=check:transomics2cytoscape.install-out.txt --library=/Library/Frameworks/R.framework/Resources/library --no-vignettes --timings transomics2cytoscape_1.19.0.tar.gz StartedAt: 2025-06-30 23:57:56 -0400 (Mon, 30 Jun 2025) EndedAt: 2025-06-30 23:58:33 -0400 (Mon, 30 Jun 2025) EllapsedTime: 36.6 seconds RetCode: 0 Status: OK CheckDir: transomics2cytoscape.Rcheck Warnings: 0