Package: transomics2cytoscape Version: 1.19.0 Command: /Library/Frameworks/R.framework/Resources/bin/R CMD build --keep-empty-dirs --no-resave-data transomics2cytoscape StartedAt: 2025-06-29 18:37:25 -0400 (Sun, 29 Jun 2025) EndedAt: 2025-06-29 18:37:38 -0400 (Sun, 29 Jun 2025) EllapsedTime: 12.5 seconds RetCode: 0 Status: OK PackageFile: transomics2cytoscape_1.19.0.tar.gz PackageFileSize: 11.82 MiB