Package: transmogR Version: 1.5.0 Command: /home/biocbuild/R/R/bin/R CMD INSTALL transmogR StartedAt: 2025-06-30 21:04:58 -0000 (Mon, 30 Jun 2025) EndedAt: 2025-06-30 21:05:48 -0000 (Mon, 30 Jun 2025) EllapsedTime: 50.1 seconds RetCode: 0 Status: OK