Package: transmogR Version: 1.5.0 Command: F:\biocbuild\bbs-3.22-bioc\R\bin\R.exe CMD INSTALL transmogR StartedAt: 2025-07-14 16:43:10 -0400 (Mon, 14 Jul 2025) EndedAt: 2025-07-14 16:44:08 -0400 (Mon, 14 Jul 2025) EllapsedTime: 57.1 seconds RetCode: 0 Status: OK