Package: transmogR Version: 1.5.0 Command: F:\biocbuild\bbs-3.22-bioc\R\bin\R.exe CMD check --no-multiarch --install=check:transmogR.install-out.txt --library=F:\biocbuild\bbs-3.22-bioc\R\library --no-vignettes --timings transmogR_1.5.0.tar.gz StartedAt: 2025-07-18 07:35:05 -0400 (Fri, 18 Jul 2025) EndedAt: 2025-07-18 07:43:11 -0400 (Fri, 18 Jul 2025) EllapsedTime: 486.2 seconds RetCode: 0 Status: OK CheckDir: transmogR.Rcheck Warnings: 0