Package: transmogR Version: 1.5.0 Command: chmod a+r transmogR -R && F:\biocbuild\bbs-3.22-bioc\R\bin\R.exe CMD build --keep-empty-dirs --no-resave-data transmogR StartedAt: 2025-07-14 22:40:14 -0400 (Mon, 14 Jul 2025) EndedAt: 2025-07-14 22:42:17 -0400 (Mon, 14 Jul 2025) EllapsedTime: 123.3 seconds RetCode: 0 Status: OK PackageFile: transmogR_1.5.0.tar.gz PackageFileSize: 557.7 KiB