Package: transmogR Version: 1.5.0 Command: rm -rf transmogR.buildbin-libdir && mkdir transmogR.buildbin-libdir && F:\biocbuild\bbs-3.22-bioc\R\bin\R.exe CMD INSTALL --build --library=transmogR.buildbin-libdir transmogR_1.5.0.tar.gz StartedAt: 2025-07-15 10:10:25 -0400 (Tue, 15 Jul 2025) EndedAt: 2025-07-15 10:11:17 -0400 (Tue, 15 Jul 2025) EllapsedTime: 52.0 seconds RetCode: 0 Status: OK PackageFile: transmogR_1.5.0.zip PackageFileSize: 689.4 KiB