############################################################################## ############################################################################## ### ### Running command: ### ### rm -rf transmogR.buildbin-libdir && mkdir transmogR.buildbin-libdir && F:\biocbuild\bbs-3.22-bioc\R\bin\R.exe CMD INSTALL --build --library=transmogR.buildbin-libdir transmogR_1.5.0.tar.gz ### ############################################################################## ############################################################################## * installing *source* package 'transmogR' ... ** this is package 'transmogR' version '1.5.0' ** using staged installation ** libs using C compiler: 'gcc.exe (GCC) 14.2.0' gcc -I"F:/biocbuild/bbs-3.22-bioc/R/include" -DNDEBUG -I"C:/rtools45/x86_64-w64-mingw32.static.posix/include" -I/usr/include -O2 -Wall -std=gnu2x -mfpmath=sse -msse2 -mstackrealign -c calc_boot_sums_ti.c -o calc_boot_sums_ti.o gcc -I"F:/biocbuild/bbs-3.22-bioc/R/include" -DNDEBUG -I"C:/rtools45/x86_64-w64-mingw32.static.posix/include" -I/usr/include -O2 -Wall -std=gnu2x -mfpmath=sse -msse2 -mstackrealign -c init.c -o init.o gcc -I"F:/biocbuild/bbs-3.22-bioc/R/include" -DNDEBUG -I"C:/rtools45/x86_64-w64-mingw32.static.posix/include" -I/usr/include -O2 -Wall -std=gnu2x -mfpmath=sse -msse2 -mstackrealign -c parse_trans_names.c -o parse_trans_names.o gcc -shared -s -static-libgcc -o transmogR.dll tmp.def calc_boot_sums_ti.o init.o parse_trans_names.o -L/usr/lib -lz -lm -LC:/rtools45/x86_64-w64-mingw32.static.posix/lib/x64 -LC:/rtools45/x86_64-w64-mingw32.static.posix/lib -LF:/biocbuild/bbs-3.22-bioc/R/bin/x64 -lR installing to F:/biocbuild/bbs-3.22-bioc/meat/transmogR.buildbin-libdir/00LOCK-transmogR/00new/transmogR/libs/x64 ** R ** inst ** byte-compile and prepare package for lazy loading ** help *** installing help indices *** copying figures ** building package indices ** installing vignettes ** testing if installed package can be loaded from temporary location ** testing if installed package can be loaded from final location ** testing if installed package keeps a record of temporary installation path * MD5 sums packaged installation of 'transmogR' as transmogR_1.5.0.zip * DONE (transmogR)