Package: transmogR Version: 1.5.0 Command: /Library/Frameworks/R.framework/Resources/bin/R CMD build --keep-empty-dirs --no-resave-data transmogR StartedAt: 2025-06-29 17:49:29 -0400 (Sun, 29 Jun 2025) EndedAt: 2025-06-29 17:50:04 -0400 (Sun, 29 Jun 2025) EllapsedTime: 34.4 seconds RetCode: 0 Status: OK PackageFile: transmogR_1.5.0.tar.gz PackageFileSize: 599 KiB