Package: transite Version: 1.27.0 Command: F:\biocbuild\bbs-3.22-bioc\R\bin\R.exe CMD INSTALL transite StartedAt: 2025-07-20 15:48:24 -0400 (Sun, 20 Jul 2025) EndedAt: 2025-07-20 15:49:09 -0400 (Sun, 20 Jul 2025) EllapsedTime: 45.8 seconds RetCode: 0 Status: OK