Package: transite Version: 1.27.0 Command: chmod a+r transite -R && F:\biocbuild\bbs-3.22-bioc\R\bin\R.exe CMD build --keep-empty-dirs --no-resave-data transite StartedAt: 2025-07-20 22:38:28 -0400 (Sun, 20 Jul 2025) EndedAt: 2025-07-20 22:39:34 -0400 (Sun, 20 Jul 2025) EllapsedTime: 66.1 seconds RetCode: 0 Status: OK PackageFile: transite_1.27.0.tar.gz PackageFileSize: 610.8 KiB