Package: transite Version: 1.27.1 Command: /Library/Frameworks/R.framework/Resources/bin/R CMD INSTALL transite StartedAt: 2025-10-03 15:17:29 -0400 (Fri, 03 Oct 2025) EndedAt: 2025-10-03 15:17:38 -0400 (Fri, 03 Oct 2025) EllapsedTime: 8.8 seconds RetCode: 0 Status: OK