Package: transite Version: 1.27.1 Command: /Library/Frameworks/R.framework/Resources/bin/R CMD check --install=check:transite.install-out.txt --library=/Library/Frameworks/R.framework/Resources/library --no-vignettes --timings transite_1.27.1.tar.gz StartedAt: 2025-10-03 22:11:57 -0400 (Fri, 03 Oct 2025) EndedAt: 2025-10-03 22:16:14 -0400 (Fri, 03 Oct 2025) EllapsedTime: 257.1 seconds RetCode: 0 Status: OK CheckDir: transite.Rcheck Warnings: 0