Package: transite Version: 1.27.1 Command: /Library/Frameworks/R.framework/Resources/bin/R CMD build --keep-empty-dirs --no-resave-data transite StartedAt: 2025-10-05 18:02:12 -0400 (Sun, 05 Oct 2025) EndedAt: 2025-10-05 18:02:28 -0400 (Sun, 05 Oct 2025) EllapsedTime: 15.2 seconds RetCode: 0 Status: OK PackageFile: transite_1.27.1.tar.gz PackageFileSize: 639.5 KiB