Package: transformGamPoi Version: 1.15.0 Command: chmod a+r transformGamPoi -R && F:\biocbuild\bbs-3.22-bioc\R\bin\R.exe CMD build --keep-empty-dirs --no-resave-data transformGamPoi StartedAt: 2025-07-24 22:53:18 -0400 (Thu, 24 Jul 2025) EndedAt: 2025-07-24 22:55:36 -0400 (Thu, 24 Jul 2025) EllapsedTime: 138.6 seconds RetCode: 0 Status: OK PackageFile: transformGamPoi_1.15.0.tar.gz PackageFileSize: 403.3 KiB