Package: transformGamPoi Version: 1.15.0 Command: rm -rf transformGamPoi.buildbin-libdir && mkdir transformGamPoi.buildbin-libdir && F:\biocbuild\bbs-3.22-bioc\R\bin\R.exe CMD INSTALL --build --library=transformGamPoi.buildbin-libdir transformGamPoi_1.15.0.tar.gz StartedAt: 2025-07-25 10:31:59 -0400 (Fri, 25 Jul 2025) EndedAt: 2025-07-25 10:32:33 -0400 (Fri, 25 Jul 2025) EllapsedTime: 34.6 seconds RetCode: 0 Status: OK PackageFile: transformGamPoi_1.15.0.zip PackageFileSize: 786.8 KiB