Package: tracktables Version: 1.43.0 Command: /home/biocbuild/R/R/bin/R CMD INSTALL tracktables StartedAt: 2025-06-30 21:19:56 -0000 (Mon, 30 Jun 2025) EndedAt: 2025-06-30 21:20:13 -0000 (Mon, 30 Jun 2025) EllapsedTime: 17.5 seconds RetCode: 0 Status: OK