Package: tracktables Version: 1.43.0 Command: /home/biocbuild/R/R/bin/R CMD check --install=check:tracktables.install-out.txt --library=/home/biocbuild/R/R/site-library --no-vignettes --timings tracktables_1.43.0.tar.gz StartedAt: 2025-07-01 12:35:46 -0000 (Tue, 01 Jul 2025) EndedAt: 2025-07-01 12:37:46 -0000 (Tue, 01 Jul 2025) EllapsedTime: 119.2 seconds RetCode: 0 Status: WARNINGS CheckDir: tracktables.Rcheck Warnings: 1