Package: tracktables Version: 1.43.0 Command: /home/biocbuild/R/R/bin/R CMD build --keep-empty-dirs --no-resave-data tracktables StartedAt: 2025-07-01 03:35:40 -0000 (Tue, 01 Jul 2025) EndedAt: 2025-07-01 03:36:06 -0000 (Tue, 01 Jul 2025) EllapsedTime: 26.0 seconds RetCode: 0 Status: OK PackageFile: tracktables_1.43.0.tar.gz PackageFileSize: 347.2 KiB