Package: tpSVG Version: 1.5.0 Command: F:\biocbuild\bbs-3.22-bioc\R\bin\R.exe CMD INSTALL tpSVG StartedAt: 2025-07-14 16:10:09 -0400 (Mon, 14 Jul 2025) EndedAt: 2025-07-14 16:10:41 -0400 (Mon, 14 Jul 2025) EllapsedTime: 32.2 seconds RetCode: 0 Status: OK