Package: tpSVG Version: 1.5.0 Command: F:\biocbuild\bbs-3.22-bioc\R\bin\R.exe CMD check --no-multiarch --install=check:tpSVG.install-out.txt --library=F:\biocbuild\bbs-3.22-bioc\R\library --no-vignettes --timings tpSVG_1.5.0.tar.gz StartedAt: 2025-07-15 07:32:58 -0400 (Tue, 15 Jul 2025) EndedAt: 2025-07-15 07:38:29 -0400 (Tue, 15 Jul 2025) EllapsedTime: 331.0 seconds RetCode: 0 Status: OK CheckDir: tpSVG.Rcheck Warnings: 0