Package: tpSVG Version: 1.5.0 Command: chmod a+r tpSVG -R && F:\biocbuild\bbs-3.22-bioc\R\bin\R.exe CMD build --keep-empty-dirs --no-resave-data tpSVG StartedAt: 2025-07-14 22:38:41 -0400 (Mon, 14 Jul 2025) EndedAt: 2025-07-14 22:40:38 -0400 (Mon, 14 Jul 2025) EllapsedTime: 117.0 seconds RetCode: 0 Status: OK PackageFile: tpSVG_1.5.0.tar.gz PackageFileSize: 1.237 MiB