Package: tpSVG Version: 1.5.0 Command: rm -rf tpSVG.buildbin-libdir && mkdir tpSVG.buildbin-libdir && F:\biocbuild\bbs-3.22-bioc\R\bin\R.exe CMD INSTALL --build --library=tpSVG.buildbin-libdir tpSVG_1.5.0.tar.gz StartedAt: 2025-07-15 10:10:03 -0400 (Tue, 15 Jul 2025) EndedAt: 2025-07-15 10:10:31 -0400 (Tue, 15 Jul 2025) EllapsedTime: 27.6 seconds RetCode: 0 Status: OK PackageFile: tpSVG_1.5.0.zip PackageFileSize: 1.245 MiB