Package: tpSVG Version: 1.5.0 Command: /Library/Frameworks/R.framework/Resources/bin/R CMD build --keep-empty-dirs --no-resave-data tpSVG StartedAt: 2025-07-11 17:47:37 -0400 (Fri, 11 Jul 2025) EndedAt: 2025-07-11 17:48:22 -0400 (Fri, 11 Jul 2025) EllapsedTime: 44.6 seconds RetCode: 0 Status: OK PackageFile: tpSVG_1.5.0.tar.gz PackageFileSize: 1.237 MiB