Package: tpSVG Version: 1.5.0 Command: rm -rf tpSVG.buildbin-libdir && mkdir tpSVG.buildbin-libdir && /Users/biocbuild/BBS/utils/build-universal.sh tpSVG_1.5.0.tar.gz /Library/Frameworks/R.framework/Resources/bin/R tpSVG.buildbin-libdir StartedAt: 2025-07-11 22:38:56 -0400 (Fri, 11 Jul 2025) EndedAt: 2025-07-11 22:39:07 -0400 (Fri, 11 Jul 2025) EllapsedTime: 11.3 seconds RetCode: 0 Status: OK PackageFile: tpSVG_1.5.0.tgz PackageFileSize: 1.241 MiB