Package: topdownr Version: 1.31.0 Command: /home/biocbuild/bbs-3.22-bioc/R/bin/R CMD INSTALL topdownr StartedAt: 2025-07-14 15:37:19 -0400 (Mon, 14 Jul 2025) EndedAt: 2025-07-14 15:38:14 -0400 (Mon, 14 Jul 2025) EllapsedTime: 54.7 seconds RetCode: 0 Status: OK