Package: topdownr Version: 1.31.0 Command: /home/biocbuild/bbs-3.22-bioc/R/bin/R CMD build --keep-empty-dirs --no-resave-data --md5 topdownr StartedAt: 2025-07-14 19:35:08 -0400 (Mon, 14 Jul 2025) EndedAt: 2025-07-14 19:36:35 -0400 (Mon, 14 Jul 2025) EllapsedTime: 87.1 seconds RetCode: 0 Status: OK PackageFile: topdownr_1.31.0.tar.gz PackageFileSize: 1.528 MiB