Package: topconfects Version: 1.25.0 Command: /home/biocbuild/R/R/bin/R CMD build --keep-empty-dirs --no-resave-data topconfects StartedAt: 2025-07-15 03:33:44 -0000 (Tue, 15 Jul 2025) EndedAt: 2025-07-15 03:36:27 -0000 (Tue, 15 Jul 2025) EllapsedTime: 163.1 seconds RetCode: 0 Status: OK PackageFile: topconfects_1.25.0.tar.gz PackageFileSize: 1.493 MiB