Package: topconfects Version: 1.25.0 Command: /home/biocbuild/bbs-3.22-bioc/R/bin/R CMD INSTALL topconfects StartedAt: 2025-06-30 15:07:28 -0400 (Mon, 30 Jun 2025) EndedAt: 2025-06-30 15:07:59 -0400 (Mon, 30 Jun 2025) EllapsedTime: 31.6 seconds RetCode: 0 Status: OK