Package: topGO Version: 2.61.1 Command: /home/biocbuild/bbs-3.22-bioc/R/bin/R CMD check --install=check:topGO.install-out.txt --library=/home/biocbuild/bbs-3.22-bioc/R/site-library --timings topGO_2.61.1.tar.gz StartedAt: 2025-07-02 03:18:32 -0400 (Wed, 02 Jul 2025) EndedAt: 2025-07-02 03:22:18 -0400 (Wed, 02 Jul 2025) EllapsedTime: 226.2 seconds RetCode: 0 Status: WARNINGS CheckDir: topGO.Rcheck Warnings: 1