Package: topGO Version: 2.61.1 Command: rm -rf topGO.buildbin-libdir && mkdir topGO.buildbin-libdir && /Users/biocbuild/BBS/utils/build-universal.sh topGO_2.61.1.tar.gz /Library/Frameworks/R.framework/Resources/bin/R topGO.buildbin-libdir StartedAt: 2025-07-24 22:51:25 -0400 (Thu, 24 Jul 2025) EndedAt: 2025-07-24 22:51:34 -0400 (Thu, 24 Jul 2025) EllapsedTime: 8.2 seconds RetCode: 0 Status: OK PackageFile: topGO_2.61.1.tgz PackageFileSize: 2.591 MiB