Package: tomoseqr Version: 1.13.0 Command: /home/biocbuild/R/R/bin/R CMD INSTALL tomoseqr StartedAt: 2025-07-24 21:08:53 -0000 (Thu, 24 Jul 2025) EndedAt: 2025-07-24 21:09:11 -0000 (Thu, 24 Jul 2025) EllapsedTime: 18.4 seconds RetCode: 0 Status: OK