Package: tomoseqr Version: 1.13.0 Command: /home/biocbuild/R/R/bin/R CMD build --keep-empty-dirs --no-resave-data tomoseqr StartedAt: 2025-07-25 04:27:06 -0000 (Fri, 25 Jul 2025) EndedAt: 2025-07-25 04:27:30 -0000 (Fri, 25 Jul 2025) EllapsedTime: 24.0 seconds RetCode: 0 Status: OK PackageFile: tomoseqr_1.13.0.tar.gz PackageFileSize: 1.583 MiB