Package: tomoseqr Version: 1.13.0 Command: F:\biocbuild\bbs-3.22-bioc\R\bin\R.exe CMD INSTALL tomoseqr StartedAt: 2025-07-14 15:30:07 -0400 (Mon, 14 Jul 2025) EndedAt: 2025-07-14 15:30:30 -0400 (Mon, 14 Jul 2025) EllapsedTime: 23.6 seconds RetCode: 0 Status: OK