Package: tomoseqr Version: 1.13.0 Command: F:\biocbuild\bbs-3.22-bioc\R\bin\R.exe CMD check --no-multiarch --install=check:tomoseqr.install-out.txt --library=F:\biocbuild\bbs-3.22-bioc\R\library --no-vignettes --timings tomoseqr_1.13.0.tar.gz StartedAt: 2025-07-15 07:31:38 -0400 (Tue, 15 Jul 2025) EndedAt: 2025-07-15 07:33:07 -0400 (Tue, 15 Jul 2025) EllapsedTime: 88.3 seconds RetCode: 0 Status: OK CheckDir: tomoseqr.Rcheck Warnings: 0