Package: tomoseqr Version: 1.13.0 Command: chmod a+r tomoseqr -R && F:\biocbuild\bbs-3.22-bioc\R\bin\R.exe CMD build --keep-empty-dirs --no-resave-data tomoseqr StartedAt: 2025-07-14 22:38:08 -0400 (Mon, 14 Jul 2025) EndedAt: 2025-07-14 22:38:42 -0400 (Mon, 14 Jul 2025) EllapsedTime: 34.1 seconds RetCode: 0 Status: OK PackageFile: tomoseqr_1.13.0.tar.gz PackageFileSize: 1.558 MiB