Package: tomoda Version: 1.19.0 Command: /home/biocbuild/bbs-3.22-bioc/R/bin/R CMD INSTALL tomoda StartedAt: 2025-10-05 15:33:21 -0400 (Sun, 05 Oct 2025) EndedAt: 2025-10-05 15:33:45 -0400 (Sun, 05 Oct 2025) EllapsedTime: 24.3 seconds RetCode: 0 Status: OK